BEGIN:VCALENDAR
VERSION:2.0
PRODID:-//hacksw/handcal//NONSGML v1.0//EN
CALSCALE:GREGORIAN
BEGIN:VTIMEZONE
TZID:W. Europe Standard Time
BEGIN:STANDARD
DTSTART:16010101T030000
TZOFFSETFROM:+0200
TZOFFSETTO:+0100
RRULE:FREQ=YEARLY;INTERVAL=1;BYDAY=-1SU;BYMONTH=10
END:STANDARD
BEGIN:DAYLIGHT
DTSTART:16010101T020000
TZOFFSETFROM:+0100
TZOFFSETTO:+0200
RRULE:FREQ=YEARLY;INTERVAL=1;BYDAY=-1SU;BYMONTH=3
END:DAYLIGHT
END:VTIMEZONE
BEGIN:VEVENT
DTEND;TZID=W. Europe Standard Time:20240419T093000
UID:69e579f783285
DTSTAMP:20260420T005727Z
LOCATION:Webbsänds, länk skickas ut till anmälda deltagare
DESCRIPTION:Det startade med att ett nytt automatiserat skärbord var på v
 äg in – och att det saknades plats för det ... På textilföretaget OB
 IK har fokus på flöden och smartare layouter i befintliga lokaler skapat
  mer yta, kortare sträckor och bättre arbetsplatser. Samtidigt har medar
 betarnas engagemang och driv efter ständiga förbättringar ökat.
 \n\nL
 änk: https://www.produktionslyftet.se/aktivitet/obik-240419/\n\n
SUMMARY:OBIK – flödesfokus gav effektivare layout och fortsatt förändr
 ingsvilja
DTSTART;TZID=W. Europe Standard Time:20240419T083000
END:VEVENT
END:VCALENDAR
